BEGIN:VCALENDAR
VERSION:2.0
PRODID:-//Freemania//Freebie Calendar//EN
CALSCALE:GREGORIAN
METHOD:PUBLISH
X-WR-CALNAME:Freemania - Free Stuff Alerts
X-WR-CALDESC:Limited-time freebies and deals. Never miss a freebie!
REFRESH-INTERVAL;VALUE=DURATION:PT12H
X-PUBLISHED-TTL:PT12H
BEGIN:VEVENT
UID:freebie-349@freemania.net
DTSTAMP:20260422T124603Z
DTSTART;VALUE=DATE:20260422
DTEND;VALUE=DATE:20260422
SUMMARY:🎁 LAST DAY: Free Dunkin' Coffee Giveaway - 1 Million Coffees on 4/
 21
DESCRIPTION:Dunkin' is giving away one million free coffees on April 21st t
 hrough their Dunkin' Rewards program. Sign up for free at dunkindonuts.com
 /dunkinrewards to participate in this giveaway and receive ongoing exclusi
 ve promotions for drinks and treats throughout the year.\n\n🔗 Claim: http
 s://www.dunkindonuts.com/en/dunkinrewards\n📂 Category: Free Food & Dining
 \n\nView on Freemania: https://www.freemania.net/get-ready-dunkin-is-givin
 g-away-another-million-free-coffees-on-4-21
URL:https://www.freemania.net/get-ready-dunkin-is-giving-away-another-milli
 on-free-coffees-on-4-21
TRANSP:TRANSPARENT
BEGIN:VALARM
TRIGGER:-PT9H
ACTION:DISPLAY
DESCRIPTION:Last day to claim: Free Dunkin' Coffee Giveaway - 1 Million Cof
 fees on 4/21
END:VALARM
END:VEVENT
BEGIN:VEVENT
UID:freebie-370@freemania.net
DTSTAMP:20260422T124603Z
DTSTART;VALUE=DATE:20260424
DTEND;VALUE=DATE:20260424
SUMMARY:🎁 LAST DAY: Free Austin Food Truck Festival Samples
DESCRIPTION:Sample free bites from 20+ food trucks at the Austin Food Truck
  Festival. Free entry\, free samples while supplies last.\n\n🔗 Claim: htt
 ps://austinfoodtruckfest.com\n📂 Category: Free Food & Dining\n\nView on F
 reemania: https://www.freemania.net/free-austin-food-truck-festival
URL:https://www.freemania.net/free-austin-food-truck-festival
TRANSP:TRANSPARENT
BEGIN:VALARM
TRIGGER:-PT9H
ACTION:DISPLAY
DESCRIPTION:Last day to claim: Free Austin Food Truck Festival Samples
END:VALARM
END:VEVENT
BEGIN:VEVENT
UID:freebie-371@freemania.net
DTSTAMP:20260422T124603Z
DTSTART;VALUE=DATE:20260425
DTEND;VALUE=DATE:20260425
SUMMARY:🎁 LAST DAY: Free Admission to Blanton Museum
DESCRIPTION:Free community day at the Blanton Museum of Art. Explore world-
 class collections without paying a dime.\n\n🔗 Claim: https://blantonmuseu
 m.org\n📂 Category: Events & Entertainment\n\nView on Freemania: https://w
 ww.freemania.net/free-blanton-museum-day
URL:https://www.freemania.net/free-blanton-museum-day
TRANSP:TRANSPARENT
BEGIN:VALARM
TRIGGER:-PT9H
ACTION:DISPLAY
DESCRIPTION:Last day to claim: Free Admission to Blanton Museum
END:VALARM
END:VEVENT
BEGIN:VEVENT
UID:freebie-359@freemania.net
DTSTAMP:20260422T124603Z
DTSTART;VALUE=DATE:20260426
DTEND;VALUE=DATE:20260426
SUMMARY:🎁 LAST DAY: Free Pampers Diapers & Baby Box at Target April 25-26
DESCRIPTION:Target is hosting two free baby events this weekend. On April 2
 5th from 12-4pm at most stores\, play Tiny Trivia with Pampers to win free
  diapers or wipes. On April 26th from 12-4pm at select stores\, get a free
  baby box with essentials from brands like Little Spoon\, Enfamil\, Happy 
 Baby\, and Pampers. Visit your local Target store during event hours to pa
 rticipate.\n\n🔗 Claim: https://www.target.com/c/tiny-trivia-with-pampers-
 store-event/-/N-w7wyl?\n📂 Category: Free Baby & Kids\n\nView on Freemania
 : https://www.freemania.net/pampers-and-baby-box-giveaway-events-at-target
 -april-25-26
URL:https://www.freemania.net/pampers-and-baby-box-giveaway-events-at-targe
 t-april-25-26
TRANSP:TRANSPARENT
BEGIN:VALARM
TRIGGER:-PT9H
ACTION:DISPLAY
DESCRIPTION:Last day to claim: Free Pampers Diapers & Baby Box at Target Ap
 ril 25-26
END:VALARM
END:VEVENT
BEGIN:VEVENT
UID:freebie-372@freemania.net
DTSTAMP:20260422T124603Z
DTSTART;VALUE=DATE:20260426
DTEND;VALUE=DATE:20260426
SUMMARY:🎁 LAST DAY: Free Paddle Board Rentals at Lady Bird Lake
DESCRIPTION:Texas Rowing Center offers free 1-hour paddleboard rentals to A
 ustin residents this Saturday. ID required.\n\n🔗 Claim: https://texasrowi
 ngcenter.com\n📂 Category: Events & Entertainment\n\nView on Freemania: ht
 tps://www.freemania.net/free-paddleboard-lady-bird-lake
URL:https://www.freemania.net/free-paddleboard-lady-bird-lake
TRANSP:TRANSPARENT
BEGIN:VALARM
TRIGGER:-PT9H
ACTION:DISPLAY
DESCRIPTION:Last day to claim: Free Paddle Board Rentals at Lady Bird Lake
END:VALARM
END:VEVENT
BEGIN:VEVENT
UID:freebie-339@freemania.net
DTSTAMP:20260422T124603Z
DTSTART;VALUE=DATE:20260427
DTEND;VALUE=DATE:20260427
SUMMARY:🎁 LAST DAY: Free Wetzel's Pretzel on April 26th
DESCRIPTION:Wetzel's Pretzels is offering a free pretzel on April 26th. Vis
 it wetzels.com/rewards to sign up for their rewards program and claim your
  complimentary pretzel at participating locations on the specified date.\n
 \n🔗 Claim: https://www.wetzels.com/rewards\n📂 Category: Free Food & Dini
 ng\n\nView on Freemania: https://www.freemania.net/wetzel-s-pretzel-on-apr
 il-26th
URL:https://www.freemania.net/wetzel-s-pretzel-on-april-26th
TRANSP:TRANSPARENT
BEGIN:VALARM
TRIGGER:-PT9H
ACTION:DISPLAY
DESCRIPTION:Last day to claim: Free Wetzel's Pretzel on April 26th
END:VALARM
END:VEVENT
BEGIN:VEVENT
UID:freebie-69@freemania.net
DTSTAMP:20260422T124603Z
DTSTART;VALUE=DATE:20260427
DTEND;VALUE=DATE:20260427
SUMMARY:🎁 LAST DAY: Dairy Queen Blizzard BOGO 99¢ (Through April 26)
DESCRIPTION:Get a second Blizzard for just 99 cents when you buy one at Dai
 ry Queen through April 26th. Available at participating locations - perfec
 t for sharing or saving for later.\n\n🔗 Claim: https://www.dairyqueen.com
 /en-us/deals/\n📂 Category: Free Food & Dining\n\nView on Freemania: https
 ://www.freemania.net/dairy-queen-blizzard-bogo-99-through-april-26
URL:https://www.freemania.net/dairy-queen-blizzard-bogo-99-through-april-26
TRANSP:TRANSPARENT
BEGIN:VALARM
TRIGGER:-PT9H
ACTION:DISPLAY
DESCRIPTION:Last day to claim: Dairy Queen Blizzard BOGO 99¢ (Through April
  26)
END:VALARM
END:VEVENT
BEGIN:VEVENT
UID:freebie-64@freemania.net
DTSTAMP:20260422T124603Z
DTSTART;VALUE=DATE:20260429
DTEND;VALUE=DATE:20260429
SUMMARY:🎁 LAST DAY: Subway Free Footlong BOGO (Through April 28)
DESCRIPTION:Subway Sub Club members get a free Footlong when they buy one t
 hrough April 28th. Use promo code FLBOGO at checkout in the app or online.
 \n\n🔗 Claim: https://www.subway.com/en-US/SubwaySubClub\n📂 Category: Fre
 e Food & Dining\n\nView on Freemania: https://www.freemania.net/subway-fre
 e-footlong-bogo-through-april-28
URL:https://www.freemania.net/subway-free-footlong-bogo-through-april-28
TRANSP:TRANSPARENT
BEGIN:VALARM
TRIGGER:-PT9H
ACTION:DISPLAY
DESCRIPTION:Last day to claim: Subway Free Footlong BOGO (Through April 28)
END:VALARM
END:VEVENT
BEGIN:VEVENT
UID:freebie-373@freemania.net
DTSTAMP:20260422T124603Z
DTSTART;VALUE=DATE:20260430
DTEND;VALUE=DATE:20260430
SUMMARY:🎁 LAST DAY: Free Austin Symphony Orchestra Concert
DESCRIPTION:Free outdoor concert at Hartman Park featuring the Austin Symph
 ony. Bring blankets and picnic baskets.\n\n🔗 Claim: https://austinsymphon
 y.org\n📂 Category: Events & Entertainment\n\nView on Freemania: https://w
 ww.freemania.net/free-austin-symphony-concert
URL:https://www.freemania.net/free-austin-symphony-concert
TRANSP:TRANSPARENT
BEGIN:VALARM
TRIGGER:-PT9H
ACTION:DISPLAY
DESCRIPTION:Last day to claim: Free Austin Symphony Orchestra Concert
END:VALARM
END:VEVENT
BEGIN:VEVENT
UID:freebie-374@freemania.net
DTSTAMP:20260422T124603Z
DTSTART;VALUE=DATE:20260502
DTEND;VALUE=DATE:20260502
SUMMARY:🎁 LAST DAY: Free Kids Coding Workshop at Austin Library
DESCRIPTION:Free intro to Scratch programming for kids ages 8-14 at the Aus
 tin Central Library. Limited to 20 spots.\n\n🔗 Claim: https://library.aus
 tintexas.gov\n📂 Category: Books & Education\n\nView on Freemania: https:/
 /www.freemania.net/free-kids-coding-austin-library
URL:https://www.freemania.net/free-kids-coding-austin-library
TRANSP:TRANSPARENT
BEGIN:VALARM
TRIGGER:-PT9H
ACTION:DISPLAY
DESCRIPTION:Last day to claim: Free Kids Coding Workshop at Austin Library
END:VALARM
END:VEVENT
BEGIN:VEVENT
UID:freebie-137@freemania.net
DTSTAMP:20260422T124603Z
DTSTART;VALUE=DATE:20260503
DTEND;VALUE=DATE:20260503
SUMMARY:🎁 LAST DAY: Free Keepsake Box Workshop at Home Depot (On May 2nd)
DESCRIPTION:Looking for a fun event for your kiddo? Home Depot is offering 
 an exciting kids' workshop every first Saturday of the month\, providing c
 hildren ages\nThe post FREE Keepsake Box Workshop at Home Depot (On May 2n
 d) first appeared on Free Stuff Finder.\n\n🔗 Claim: https://go.magik.ly/m
 l/2d5u6/\n📂 Category: Events & Entertainment\n\nView on Freemania: https:
 //www.freemania.net/free-keepsake-box-workshop-at-home-depot-on-may-2nd
URL:https://www.freemania.net/free-keepsake-box-workshop-at-home-depot-on-m
 ay-2nd
TRANSP:TRANSPARENT
BEGIN:VALARM
TRIGGER:-PT9H
ACTION:DISPLAY
DESCRIPTION:Last day to claim: Free Keepsake Box Workshop at Home Depot (On
  May 2nd)
END:VALARM
END:VEVENT
BEGIN:VEVENT
UID:freebie-375@freemania.net
DTSTAMP:20260422T124603Z
DTSTART;VALUE=DATE:20260507
DTEND;VALUE=DATE:20260507
SUMMARY:🎁 LAST DAY: Free Barton Springs Pool Day
DESCRIPTION:Annual free admission day at Barton Springs Pool. Usually $9 en
 try\, free for everyone this day only.\n\n🔗 Claim: https://austintexas.go
 v/bartonsprings\n📂 Category: Events & Entertainment\n\nView on Freemania:
  https://www.freemania.net/free-barton-springs-day
URL:https://www.freemania.net/free-barton-springs-day
TRANSP:TRANSPARENT
BEGIN:VALARM
TRIGGER:-PT9H
ACTION:DISPLAY
DESCRIPTION:Last day to claim: Free Barton Springs Pool Day
END:VALARM
END:VEVENT
BEGIN:VEVENT
UID:freebie-63@freemania.net
DTSTAMP:20260422T124603Z
DTSTART;VALUE=DATE:20260508
DTEND;VALUE=DATE:20260508
SUMMARY:🎁 LAST DAY: Cheesecake Factory Free Slice with Rewards Signup
DESCRIPTION:Join the free Cheesecake Factory Rewards program before May 7th
  and get a complimentary slice of cheesecake. Membership is completely fre
 e and includes ongoing perks and birthday rewards.\n\n🔗 Claim: https://ww
 w.thecheesecakefactory.com/rewards\n📂 Category: Free Food & Dining\n\nVie
 w on Freemania: https://www.freemania.net/cheesecake-factory-free-slice-wi
 th-rewards-signup
URL:https://www.freemania.net/cheesecake-factory-free-slice-with-rewards-si
 gnup
TRANSP:TRANSPARENT
BEGIN:VALARM
TRIGGER:-PT9H
ACTION:DISPLAY
DESCRIPTION:Last day to claim: Cheesecake Factory Free Slice with Rewards S
 ignup
END:VALARM
END:VEVENT
BEGIN:VEVENT
UID:freebie-376@freemania.net
DTSTAMP:20260422T124603Z
DTSTART;VALUE=DATE:20260510
DTEND;VALUE=DATE:20260510
SUMMARY:🎁 LAST DAY: Free Plant Swap at East Austin Garden Center
DESCRIPTION:Bring a plant\, take a plant at the quarterly East Austin commu
 nity plant swap. Free entry even without a plant to trade.\n\n🔗 Claim: ht
 tps://eastaustingarden.org\n📂 Category: Events & Entertainment\n\nView on
  Freemania: https://www.freemania.net/free-plant-swap-east-austin
URL:https://www.freemania.net/free-plant-swap-east-austin
TRANSP:TRANSPARENT
BEGIN:VALARM
TRIGGER:-PT9H
ACTION:DISPLAY
DESCRIPTION:Last day to claim: Free Plant Swap at East Austin Garden Center
END:VALARM
END:VEVENT
BEGIN:VEVENT
UID:freebie-377@freemania.net
DTSTAMP:20260422T124603Z
DTSTART;VALUE=DATE:20260514
DTEND;VALUE=DATE:20260514
SUMMARY:🎁 LAST DAY: Free Texas BBQ Samples at Franklin Barbecue
DESCRIPTION:Franklin Barbecue celebrates 15 years with free brisket samples
 . One per person\, first come first served.\n\n🔗 Claim: https://franklinb
 bq.com\n📂 Category: Free Food & Dining\n\nView on Freemania: https://www.
 freemania.net/free-franklin-bbq-samples
URL:https://www.freemania.net/free-franklin-bbq-samples
TRANSP:TRANSPARENT
BEGIN:VALARM
TRIGGER:-PT9H
ACTION:DISPLAY
DESCRIPTION:Last day to claim: Free Texas BBQ Samples at Franklin Barbecue
END:VALARM
END:VEVENT
BEGIN:VEVENT
UID:freebie-362@freemania.net
DTSTAMP:20260422T124603Z
DTSTART;VALUE=DATE:20260517
DTEND;VALUE=DATE:20260517
SUMMARY:🎁 LAST DAY: Free Lowe's Kids Workshop - Garden Basket Project
DESCRIPTION:Lowe's is hosting free DIY workshops for kids to build a garden
  basket project on Saturday\, May 16 from 10am-1pm. Registration is now op
 en online with 45-minute time slots available - choose the window that wor
 ks best for your family. Visit Lowes.com to register for this hands-on bui
 lding experience at participating store locations.\n\n🔗 Claim: https://ww
 w.lowes.com/events/register/garden-basket\n📂 Category: Events & Entertain
 ment\n\nView on Freemania: https://www.freemania.net/lowe-s-kid-s-workshop
 -garden-basket-on-may-16
URL:https://www.freemania.net/lowe-s-kid-s-workshop-garden-basket-on-may-16
TRANSP:TRANSPARENT
BEGIN:VALARM
TRIGGER:-PT9H
ACTION:DISPLAY
DESCRIPTION:Last day to claim: Free Lowe's Kids Workshop - Garden Basket Pr
 oject
END:VALARM
END:VEVENT
BEGIN:VEVENT
UID:freebie-152@freemania.net
DTSTAMP:20260422T124603Z
DTSTART;VALUE=DATE:20260524
DTEND;VALUE=DATE:20260524
SUMMARY:🎁 LAST DAY: Free Paper Shredding at Office Depot (Up to 5 Pounds) 
  Great for Tax Docs\, Paystubs & More
DESCRIPTION:Did you know Office Depot offers paper shredding services? Even
  better\, through May 23rd\, you can shred up to a whopping 5 pounds of pa
 per for FREE with this coupon! Just show the coupon to the cashier. You ca
 n shred tax documents\, paystubs\, mail\, file folders\, photographs\, bro
 chures\, and more. Plus\n\n🔗 Claim: https://manage.kmail-lists.com/subscr
 iptions/subscribe?a=XAeg2i&#038\;g=XHinHn\n📂 Category: Books & Education\
 n\nView on Freemania: https://www.freemania.net/free-paper-shredding-at-of
 fice-depot-up-to-5-pounds-124-grea
URL:https://www.freemania.net/free-paper-shredding-at-office-depot-up-to-5-
 pounds-124-grea
TRANSP:TRANSPARENT
BEGIN:VALARM
TRIGGER:-PT9H
ACTION:DISPLAY
DESCRIPTION:Last day to claim: Free Paper Shredding at Office Depot (Up to 
 5 Pounds)  Great for Tax Docs\, Paystubs & More
END:VALARM
END:VEVENT
BEGIN:VEVENT
UID:weekly-reminder@freemania.net
DTSTAMP:20260422T124603Z
DTSTART;VALUE=DATE:20260426
RRULE:FREQ=WEEKLY;BYDAY=SU
SUMMARY:📬 Check Freemania for New Freebies
DESCRIPTION:New freebies are posted daily! Visit https://www.freemania.net 
 to see what's new this week.
URL:https://www.freemania.net
TRANSP:TRANSPARENT
END:VEVENT
END:VCALENDAR